BEGIN:VCALENDAR
VERSION:2.0
PRODID:-//The Black Forest Inn - ECPv6.15.20//NONSGML v1.0//EN
CALSCALE:GREGORIAN
METHOD:PUBLISH
X-WR-CALNAME:The Black Forest Inn
X-ORIGINAL-URL:https://theblackforestinnpa.com
X-WR-CALDESC:Events for The Black Forest Inn
REFRESH-INTERVAL;VALUE=DURATION:PT1H
X-Robots-Tag:noindex
X-PUBLISHED-TTL:PT1H
BEGIN:VTIMEZONE
TZID:America/New_York
BEGIN:DAYLIGHT
TZOFFSETFROM:-0500
TZOFFSETTO:-0400
TZNAME:EDT
DTSTART:20210314T070000
END:DAYLIGHT
BEGIN:STANDARD
TZOFFSETFROM:-0400
TZOFFSETTO:-0500
TZNAME:EST
DTSTART:20211107T060000
END:STANDARD
BEGIN:DAYLIGHT
TZOFFSETFROM:-0500
TZOFFSETTO:-0400
TZNAME:EDT
DTSTART:20220313T070000
END:DAYLIGHT
BEGIN:STANDARD
TZOFFSETFROM:-0400
TZOFFSETTO:-0500
TZNAME:EST
DTSTART:20221106T060000
END:STANDARD
BEGIN:DAYLIGHT
TZOFFSETFROM:-0500
TZOFFSETTO:-0400
TZNAME:EDT
DTSTART:20230312T070000
END:DAYLIGHT
BEGIN:STANDARD
TZOFFSETFROM:-0400
TZOFFSETTO:-0500
TZNAME:EST
DTSTART:20231105T060000
END:STANDARD
BEGIN:DAYLIGHT
TZOFFSETFROM:-0500
TZOFFSETTO:-0400
TZNAME:EDT
DTSTART:20240310T070000
END:DAYLIGHT
BEGIN:STANDARD
TZOFFSETFROM:-0400
TZOFFSETTO:-0500
TZNAME:EST
DTSTART:20241103T060000
END:STANDARD
BEGIN:DAYLIGHT
TZOFFSETFROM:-0500
TZOFFSETTO:-0400
TZNAME:EDT
DTSTART:20250309T070000
END:DAYLIGHT
BEGIN:STANDARD
TZOFFSETFROM:-0400
TZOFFSETTO:-0500
TZNAME:EST
DTSTART:20251102T060000
END:STANDARD
BEGIN:DAYLIGHT
TZOFFSETFROM:-0500
TZOFFSETTO:-0400
TZNAME:EDT
DTSTART:20260308T070000
END:DAYLIGHT
BEGIN:STANDARD
TZOFFSETFROM:-0400
TZOFFSETTO:-0500
TZNAME:EST
DTSTART:20261101T060000
END:STANDARD
END:VTIMEZONE
BEGIN:VEVENT
DTSTART;TZID=America/New_York:20250518T130000
DTEND;TZID=America/New_York:20250518T160000
DTSTAMP:20260424T025019
CREATED:20250326T123934Z
LAST-MODIFIED:20250326T123934Z
UID:4188-1747573200-1747584000@theblackforestinnpa.com
SUMMARY:Spring Auto Show 2025
DESCRIPTION:Shine your wheels and show them off!  Join us on Sunday\, May 18 at The Black Forest Inn for our annual Spring Car Show. In conjunction with Central Pennsylvania Street Machines Car Club\, show runs from 1pm – 4pm.  All vehicles are welcome.  There is no entry fee and there will be raffles and 50/50 drawing.  Enjoy great food\, drink\, and music!  If it has wheels\, shine ’em up and show ’em off!
URL:https://theblackforestinnpa.com/event/spring-auto-show-2025/
LOCATION:The Black Forest Inn\, 32600 North Route 44 Highway\, Lock Haven\, PA\, 17745
ATTACH;FMTTYPE=image/jpeg:https://theblackforestinnpa.com/wp-content/uploads/2025/03/classic-car-show-flyer-poster-template-1.jpg
ORGANIZER;CN="The Black Forest Inn":MAILTO:bryerwoods@outlook.com
END:VEVENT
BEGIN:VEVENT
DTSTART;TZID=America/New_York:20250315T130000
DTEND;TZID=America/New_York:20250315T180000
DTSTAMP:20260424T025019
CREATED:20250228T144413Z
LAST-MODIFIED:20250228T144413Z
UID:4160-1742043600-1742061600@theblackforestinnpa.com
SUMMARY:Shamrock-n-Roll 2025
DESCRIPTION:Join us on Saturday\, March 15 from 1 pm – 6 pm as we celebrate the Irish in all of us!  There will be plenty of Irish food and drinks as well as games for all.  Make plans to be with us for this fun filled event!
URL:https://theblackforestinnpa.com/event/shamrock-n-roll-2025/
LOCATION:The Black Forest Inn\, 32600 North Route 44 Highway\, Lock Haven\, PA\, 17745
ATTACH;FMTTYPE=image/jpeg:https://theblackforestinnpa.com/wp-content/uploads/2025/02/happy-st-patricks-day-saint-patricks-day.jpg
ORGANIZER;CN="The Black Forest Inn":MAILTO:bryerwoods@outlook.com
END:VEVENT
BEGIN:VEVENT
DTSTART;TZID=America/New_York:20250125T190000
DTEND;TZID=America/New_York:20250125T220000
DTSTAMP:20260424T025019
CREATED:20250113T161039Z
LAST-MODIFIED:20250113T161039Z
UID:4128-1737831600-1737842400@theblackforestinnpa.com
SUMMARY:The Clerks 2025
DESCRIPTION:Get 2025 off to a great start.  Join us for dinner and cocktails\, then rock on to the sounds of the ’90’s with “The Clerks” band.  Saturday\, January 25 from 7pm to 10pm. Make it an overnight get-away and stay the night in one of our cozy rooms!
URL:https://theblackforestinnpa.com/event/the-clerks-2025/
LOCATION:The Black Forest Inn\, 32600 North Route 44 Highway\, Lock Haven\, PA\, 17745
ATTACH;FMTTYPE=image/jpeg:https://theblackforestinnpa.com/wp-content/uploads/2025/01/Clerks-website-1.jpg
END:VEVENT
BEGIN:VEVENT
DTSTART;TZID=America/New_York:20241026T190000
DTEND;TZID=America/New_York:20241026T220000
DTSTAMP:20260424T025019
CREATED:20240930T134903Z
LAST-MODIFIED:20240930T140106Z
UID:4069-1729969200-1729980000@theblackforestinnpa.com
SUMMARY:Halloween Monster Mash 2024
DESCRIPTION:Grab your favorite costume and join us for a howling good time.  Saturday\, October 26 from 7pm until 10 pm.  DJ Chet the Jet will be spinning your favorite tunes.  There will be a costume contest and pumpkin decorating.  Come early for dinner\, party the night away\, and stay over in one of our great rooms!
URL:https://theblackforestinnpa.com/event/halloween-monster-mash-2024/
LOCATION:The Black Forest Inn\, 32600 North Route 44 Highway\, Lock Haven\, PA\, 17745
ATTACH;FMTTYPE=image/jpeg:https://theblackforestinnpa.com/wp-content/uploads/2024/09/Halloween-Party-website.jpg
END:VEVENT
BEGIN:VEVENT
DTSTART;TZID=America/New_York:20241020T130000
DTEND;TZID=America/New_York:20241020T160000
DTSTAMP:20260424T025019
CREATED:20240813T124717Z
LAST-MODIFIED:20241014T125725Z
UID:4002-1729429200-1729440000@theblackforestinnpa.com
SUMMARY:Annual Car Show 2024
DESCRIPTION:October 20\, 2024 \nCheck out the beautiful Autumn colors as you make your way through The Black Forest.  Join us for a day of horsepower and excitement!  Vehicles of any type and year are welcome.  If it has wheels\, shine ’em up\, show ’em off!
URL:https://theblackforestinnpa.com/event/annual-car-show-2024/
LOCATION:The Black Forest Inn\, 32600 North Route 44 Highway\, Lock Haven\, PA\, 17745
ATTACH;FMTTYPE=image/jpeg:https://theblackforestinnpa.com/wp-content/uploads/2024/08/Car-Show-Event-1.jpg
END:VEVENT
BEGIN:VEVENT
DTSTART;TZID=America/New_York:20240914T130000
DTEND;TZID=America/New_York:20240914T160000
DTSTAMP:20260424T025019
CREATED:20240813T123922Z
LAST-MODIFIED:20240906T130748Z
UID:3994-1726318800-1726329600@theblackforestinnpa.com
SUMMARY:All Things Dog 2024
DESCRIPTION:September 14\, 2024 \nJoin us for an afternoon full of fun with your furry friend!  Featuring a pet parade and costume contest.  Please bring a donation to benefit Clinton and Lycoming County SPCA’s.  Pet photos by Kenna Verne Fotografia.  Vendors:  Crafty Bites\, Biscuit Authority\, LLC \nVendor Registration Form:\nFill out our vendor registration form if you’d like to participate.
URL:https://theblackforestinnpa.com/event/all-things-dog-2024/
LOCATION:The Black Forest Inn\, 32600 North Route 44 Highway\, Lock Haven\, PA\, 17745
ATTACH;FMTTYPE=image/jpeg:https://theblackforestinnpa.com/wp-content/uploads/2024/08/dog-day-website.jpg
END:VEVENT
BEGIN:VEVENT
DTSTART;TZID=America/New_York:20240817T130000
DTEND;TZID=America/New_York:20240817T160000
DTSTAMP:20260424T025019
CREATED:20240813T121941Z
LAST-MODIFIED:20240813T121941Z
UID:3984-1723899600-1723910400@theblackforestinnpa.com
SUMMARY:Side by Side ATV Show 2024
DESCRIPTION:Join us on Saturday\, August 17\, 2024 from 1pm to 4pm for our annual Side X Side ATV show. There will be dealers/vendors on site.  Also enjoy prizes and 50/50 drawing!  Donations to benefit Haven Summer Youth Program.
URL:https://theblackforestinnpa.com/event/side-by-side-atv-show-2024/
LOCATION:The Black Forest Inn\, 32600 North Route 44 Highway\, Lock Haven\, PA\, 17745
ATTACH;FMTTYPE=image/jpeg:https://theblackforestinnpa.com/wp-content/uploads/2024/08/Side-by-Side-2024.jpg
END:VEVENT
BEGIN:VEVENT
DTSTART;VALUE=DATE:20240727
DTEND;VALUE=DATE:20240728
DTSTAMP:20260424T025019
CREATED:20240307T165216Z
LAST-MODIFIED:20240307T165216Z
UID:3721-1722038400-1722124799@theblackforestinnpa.com
SUMMARY:Chili Cook Off and Vendor Craft Fair - July 27\, 2024
DESCRIPTION:Join us for our Chili Cook Off and Vendor Craft Fair on Saturday\, July 27\, 2024.  \nChili Cooker Registration Link:\nFill out our chili cooker registration form if you’d like to participate. \nVendor/Craft Registration Form:\nFill out our vendor registration form if you’d like to participate. \nThe Black Forest Inn\n32600 North Route 44 Highway\, Lock Haven\, PA 17745 \nFor More Information:\nContact us at 570-769-6070. \nEvent is sponsored by The Black Forest Inn.
URL:https://theblackforestinnpa.com/event/chili-cook-off-and-vendor-craft-fair-july-27-2024/
LOCATION:The Black Forest Inn\, 32600 North Route 44 Highway\, Lock Haven\, PA\, 17745
END:VEVENT
BEGIN:VEVENT
DTSTART;VALUE=DATE:20240629
DTEND;VALUE=DATE:20240630
DTSTAMP:20260424T025019
CREATED:20240307T165333Z
LAST-MODIFIED:20240514T013446Z
UID:3725-1719619200-1719705599@theblackforestinnpa.com
SUMMARY:CANCELED Outdoor Show - June 29\, 2024
DESCRIPTION:Join us for our Outdoor Show on Saturday\, June 29\, 2024.  \nThe Black Forest Inn\n32600 North Route 44 Highway\, Lock Haven\, PA 17745 \nFor More Information:\nContact us at 570-769-6070. \nEvent is sponsored by The Black Forest Inn.
URL:https://theblackforestinnpa.com/event/outdoor-show-june-29-2024/
LOCATION:The Black Forest Inn\, 32600 North Route 44 Highway\, Lock Haven\, PA\, 17745
END:VEVENT
BEGIN:VEVENT
DTSTART;VALUE=DATE:20240615
DTEND;VALUE=DATE:20240616
DTSTAMP:20260424T025019
CREATED:20240307T164604Z
LAST-MODIFIED:20240307T172853Z
UID:3719-1718409600-1718495999@theblackforestinnpa.com
SUMMARY:Jeep Show and Vendor Craft Fair - June 15\, 2024
DESCRIPTION:Join us for a Jeep Show and Vendor Craft Fair on Saturday\, June 15\, 2024.  \nVendor/Craft Registration Form:\nFill out our vendor registration form if you’d like to participate. \nThe Black Forest Inn\n32600 North Route 44 Highway\, Lock Haven\, PA 17745 \nFor More Information:\nContact us at 570-769-6070. \nEvent is sponsored by The Black Forest Inn.
URL:https://theblackforestinnpa.com/event/jeep-show-and-vendor-craft-fair-june-15-2024/
LOCATION:The Black Forest Inn\, 32600 North Route 44 Highway\, Lock Haven\, PA\, 17745
END:VEVENT
BEGIN:VEVENT
DTSTART;VALUE=DATE:20240504
DTEND;VALUE=DATE:20240505
DTSTAMP:20260424T025019
CREATED:20240307T164045Z
LAST-MODIFIED:20240307T164045Z
UID:3715-1714780800-1714867199@theblackforestinnpa.com
SUMMARY:Quarter Stick - May 4\, 2024
DESCRIPTION:Join us and Quarter Stick on Saturday\, May 4\, 2024. Come ready for music\, drinks\, food\, and fun! \nQuarter Stick\nWebsite \nThe Black Forest Inn\n32600 North Route 44 Highway\, Lock Haven\, PA 17745 \nFor More Information:\nContact us at 570-769-6070. \nEvent is sponsored by The Black Forest Inn.
URL:https://theblackforestinnpa.com/event/quarter-stick-may-4-2024/
LOCATION:The Black Forest Inn\, 32600 North Route 44 Highway\, Lock Haven\, PA\, 17745
ATTACH;FMTTYPE=image/jpeg:https://theblackforestinnpa.com/wp-content/uploads/2023/11/Quarterstick-Band_The-Black-Forest-Inn.jpg
END:VEVENT
BEGIN:VEVENT
DTSTART;VALUE=DATE:20240413
DTEND;VALUE=DATE:20240414
DTSTAMP:20260424T025019
CREATED:20240307T163850Z
LAST-MODIFIED:20240307T163850Z
UID:3713-1712966400-1713052799@theblackforestinnpa.com
SUMMARY:Red Wednesday - April 13\, 2024
DESCRIPTION:Join us and Red Wednesday on Saturday\, April 13\, 2024. Come ready for music\, drinks\, food\, and fun! \nRed Wednesday\nWebsite \nThe Black Forest Inn\n32600 North Route 44 Highway\, Lock Haven\, PA 17745 \nFor More Information:\nContact us at 570-769-6070. \nEvent is sponsored by The Black Forest Inn.
URL:https://theblackforestinnpa.com/event/red-wednesday-april-13-2024/
LOCATION:The Black Forest Inn\, 32600 North Route 44 Highway\, Lock Haven\, PA\, 17745
END:VEVENT
BEGIN:VEVENT
DTSTART;VALUE=DATE:20240316
DTEND;VALUE=DATE:20240317
DTSTAMP:20260424T025019
CREATED:20240307T163550Z
LAST-MODIFIED:20240307T163644Z
UID:3710-1710547200-1710633599@theblackforestinnpa.com
SUMMARY:Logan Route - March 16\, 2024
DESCRIPTION:Join us and Logan Route on Saturday\, March 16\, 2024. Come ready for music\, drinks\, food\, and fun! \nLogan Route\nWebsite \nThe Black Forest Inn\n32600 North Route 44 Highway\, Lock Haven\, PA 17745 \nFor More Information:\nContact us at 570-769-6070. \nEvent is sponsored by The Black Forest Inn.
URL:https://theblackforestinnpa.com/event/logan-route-march-16-2024/
LOCATION:The Black Forest Inn\, 32600 North Route 44 Highway\, Lock Haven\, PA\, 17745
ATTACH;FMTTYPE=image/jpeg:https://theblackforestinnpa.com/wp-content/uploads/2023/10/Logan-Route.jpeg
END:VEVENT
BEGIN:VEVENT
DTSTART;VALUE=DATE:20240302
DTEND;VALUE=DATE:20240303
DTSTAMP:20260424T025019
CREATED:20240307T163237Z
LAST-MODIFIED:20240307T163237Z
UID:3708-1709337600-1709423999@theblackforestinnpa.com
SUMMARY:Clark McClane Band - March 2\, 2024
DESCRIPTION:Join us and the Clark McClane Band on Saturday\, March 2\, 2024. Come ready for music\, drinks\, food\, and fun! \nClark McClane Band\nWebsite \nThe Black Forest Inn\n32600 North Route 44 Highway\, Lock Haven\, PA 17745 \nFor More Information:\nContact us at 570-769-6070. \nEvent is sponsored by The Black Forest Inn.
URL:https://theblackforestinnpa.com/event/clark-mcclane-band-march-2-2024/
LOCATION:The Black Forest Inn\, 32600 North Route 44 Highway\, Lock Haven\, PA\, 17745
END:VEVENT
BEGIN:VEVENT
DTSTART;TZID=America/New_York:20240210T200000
DTEND;TZID=America/New_York:20240210T200000
DTSTAMP:20260424T025019
CREATED:20231121T150054Z
LAST-MODIFIED:20231121T150054Z
UID:3584-1707595200-1707595200@theblackforestinnpa.com
SUMMARY:No Limits DJ Karaoke - February 10\, 2024
DESCRIPTION:Join us and No Limits DJ Karaoke on Saturday\, February 10\, 2024 at 8:00 p.m. Come ready for music\, drinks\, food\, and fun! \nThe Black Forest Inn\n32600 North Route 44 Highway\, Lock Haven\, PA 17745 \nFor More Information:\nContact us at 570-769-6070. \nEvent is sponsored by The Black Forest Inn.
URL:https://theblackforestinnpa.com/event/no-limits-dj-karaoke-february-10-2024/
LOCATION:The Black Forest Inn\, 32600 North Route 44 Highway\, Lock Haven\, PA\, 17745
ATTACH;FMTTYPE=image/jpeg:https://theblackforestinnpa.com/wp-content/uploads/2023/11/No-Limits-DJ-Karaoke_The-Black-Forest-Inn.jpg
END:VEVENT
BEGIN:VEVENT
DTSTART;TZID=America/New_York:20240120T200000
DTEND;TZID=America/New_York:20240120T200000
DTSTAMP:20260424T025019
CREATED:20231121T145951Z
LAST-MODIFIED:20231121T145951Z
UID:3585-1705780800-1705780800@theblackforestinnpa.com
SUMMARY:Whiskey Shooters Band - January 20\, 2024
DESCRIPTION:Join us and the Whiskey Shooters Band on Saturday\, January 20\, 2024 at 8:00 p.m. Come ready for music\, drinks\, food\, and fun! \nThe Black Forest Inn\n32600 North Route 44 Highway\, Lock Haven\, PA 17745 \nFor More Information:\nContact us at 570-769-6070. \nEvent is sponsored by The Black Forest Inn.
URL:https://theblackforestinnpa.com/event/whiskey-shooters-band-january-20-2024/
LOCATION:The Black Forest Inn\, 32600 North Route 44 Highway\, Lock Haven\, PA\, 17745
ATTACH;FMTTYPE=image/jpeg:https://theblackforestinnpa.com/wp-content/uploads/2023/11/Whiskey-Shooters-Band_The-Black-Forest-Inn.jpg
END:VEVENT
BEGIN:VEVENT
DTSTART;TZID=America/New_York:20231209T200000
DTEND;TZID=America/New_York:20231209T200000
DTSTAMP:20260424T025019
CREATED:20231121T150119Z
LAST-MODIFIED:20231121T150119Z
UID:3562-1702152000-1702152000@theblackforestinnpa.com
SUMMARY:Quarterstick Band - December 9\, 2023
DESCRIPTION:Join us and the Quarterstick Band on Saturday\, December 9\, 2023 at 8:00 p.m. Come ready for music\, drinks\, food\, and fun! \nThe Black Forest Inn\n32600 North Route 44 Highway\, Lock Haven\, PA 17745 \nFor More Information:\nContact us at 570-769-6070. \nEvent is sponsored by The Black Forest Inn.
URL:https://theblackforestinnpa.com/event/quarterstick-band-december-9-2023/
LOCATION:The Black Forest Inn\, 32600 North Route 44 Highway\, Lock Haven\, PA\, 17745
ATTACH;FMTTYPE=image/jpeg:https://theblackforestinnpa.com/wp-content/uploads/2023/11/Quarterstick-Band_The-Black-Forest-Inn.jpg
END:VEVENT
BEGIN:VEVENT
DTSTART;TZID=America/New_York:20231111T180000
DTEND;TZID=America/New_York:20231111T180000
DTSTAMP:20260424T025019
CREATED:20231012T171420Z
LAST-MODIFIED:20231012T171420Z
UID:3503-1699725600-1699725600@theblackforestinnpa.com
SUMMARY:Troy Love - November 11\, 2023
DESCRIPTION:Join us and Troy Love for 90s hits on Saturday\, November 11\, 2023 at 6:00 p.m. Troy Love is an amazing musician that plays all of the 90s hits! Come ready for drinks\, food\, and fun! \nThe Black Forest Inn\n32600 North Route 44 Highway\, Lock Haven\, PA 17745 \nFor More Information:\nContact us at 570-769-6070. \nEvent is sponsored by The Black Forest Inn.
URL:https://theblackforestinnpa.com/event/troy-love-november-11-2023/
LOCATION:The Black Forest Inn\, 32600 North Route 44 Highway\, Lock Haven\, PA\, 17745
ATTACH;FMTTYPE=image/jpeg:https://theblackforestinnpa.com/wp-content/uploads/2023/10/Troy-Love.jpg
END:VEVENT
BEGIN:VEVENT
DTSTART;TZID=America/New_York:20231104T190000
DTEND;TZID=America/New_York:20231104T220000
DTSTAMP:20260424T025019
CREATED:20231012T170725Z
LAST-MODIFIED:20231012T170725Z
UID:3492-1699124400-1699135200@theblackforestinnpa.com
SUMMARY:Tony Harlan - November 4\, 2023
DESCRIPTION:Join us and Tony Harlan for AC/DC tribute songs on Saturday\, November 4\, 2023 at 7:00 p.m. Tony Harlan is known for his rocking guitar skills and his AC/DC tribute songs. Come ready for drinks\, food\, and fun! \nThe Black Forest Inn\n32600 North Route 44 Highway\, Lock Haven\, PA 17745 \nFor More Information:\nContact us at 570-769-6070. \nEvent is sponsored by The Black Forest Inn. \n 
URL:https://theblackforestinnpa.com/event/tony-harlan-november-4-2023/
LOCATION:The Black Forest Inn\, 32600 North Route 44 Highway\, Lock Haven\, PA\, 17745
ATTACH;FMTTYPE=image/jpeg:https://theblackforestinnpa.com/wp-content/uploads/2023/10/Tony-Harlan.jpg
END:VEVENT
BEGIN:VEVENT
DTSTART;TZID=America/New_York:20231020T190000
DTEND;TZID=America/New_York:20231020T220000
DTSTAMP:20260424T025019
CREATED:20231012T164845Z
LAST-MODIFIED:20231012T164845Z
UID:3472-1697828400-1697839200@theblackforestinnpa.com
SUMMARY:Logan Route - Oct. 20\, 2023
DESCRIPTION:Join us and Logan Route for country music including classic to modern on Friday\, October 20\, 2023 from 7:00 p.m. to 10:00 p.m. Come ready for drinks\, food\, and fun! \nThe Black Forest Inn\n32600 North Route 44 Highway\, Lock Haven\, PA 17745 \nFor More Information:\nContact us at 570-769-6070. \nEvent is sponsored by The Black Forest Inn. \n 
URL:https://theblackforestinnpa.com/event/logan-route-oct-20-2023/
LOCATION:The Black Forest Inn\, 32600 North Route 44 Highway\, Lock Haven\, PA\, 17745
ATTACH;FMTTYPE=image/jpeg:https://theblackforestinnpa.com/wp-content/uploads/2023/10/Logan-Route.jpeg
END:VEVENT
BEGIN:VEVENT
DTSTART;TZID=America/New_York:20230729T093000
DTEND;TZID=America/New_York:20230729T170000
DTSTAMP:20260424T025019
CREATED:20230204T190405Z
LAST-MODIFIED:20230206T224534Z
UID:3377-1690623000-1690650000@theblackforestinnpa.com
SUMMARY:Chili Cook-Off 2023
DESCRIPTION:Join us for our annual Black Forest Inn Chili Cook-Off on Saturday\, July 29\, 2023! This event is rain or shine and benefits the Black Forest Fire Company and MR Mo Project: saves Senior Dogs Nationwide. \nCook’s meeting is at 9:30 a.m. Judge’s tent.\nLight Stoves at 10:00 a.m. and start cooking.\nTurn in chili to judges at 3:00 p.m.\nPeople’s Choice starts after you turn in your chili.\nWinners will receive Cash Prizes at 4:00 p.m. \nEntry Fee:\n$35.00 \nSalsa Fee:\n$10.00 \nOfficial Rules:\n \nRegistration Form:\n \nFor more information:\nFill out our contact form.
URL:https://theblackforestinnpa.com/event/chili-cook-off-2023/
LOCATION:The Black Forest Inn\, 32600 North Route 44 Highway\, Lock Haven\, PA\, 17745
ATTACH;FMTTYPE=image/jpeg:https://theblackforestinnpa.com/wp-content/uploads/2023/02/Chili-Cook-Off-2023_The-Black-Forest-Inn-scaled.jpg
END:VEVENT
BEGIN:VEVENT
DTSTART;TZID=America/New_York:20220917T120000
DTEND;TZID=America/New_York:20220917T170000
DTSTAMP:20260424T025019
CREATED:20220808T224033Z
LAST-MODIFIED:20220809T144908Z
UID:3252-1663416000-1663434000@theblackforestinnpa.com
SUMMARY:BBQ Showdown 2022
DESCRIPTION:Join us on September 17\, 2022 from 12:00 – 5:00 p.m. for our BBQ Showdown! Chicken\, Ribs\, BBQ Sauce\, oh my! Cash Prizes and People’s Choice Awards. \n \n\n\nCost:\n\n\n\n\n\n\n\n\n\n\n\n$35 per entry fee\nDownload Registration Form \nWho: \n\n\n\n\n\n\n\n\n\nEveryone is welcome to enter.\n\nWhen:\n\nSeptember 17\, 2022 from 12:00 – 5:00 p.m. \nWhere: \nThe Black Forest Inn\n32600 North Route 44 Highway\nLock Haven\, PA 17745 \n \nFor more information: \nContact us at 570-769-6070 or admin@theblackforestinnpa.org. \nSponsored by The Black Forest Inn.
URL:https://theblackforestinnpa.com/event/bbq-showdown-2022/
LOCATION:The Black Forest Inn\, 32600 North Route 44 Highway\, Lock Haven\, PA\, 17745
ATTACH;FMTTYPE=image/jpeg:https://theblackforestinnpa.com/wp-content/uploads/2022/08/BBQ-Showdown-2022_Black-Forest-Inn.jpg
END:VEVENT
BEGIN:VEVENT
DTSTART;VALUE=DATE:20220716
DTEND;VALUE=DATE:20220717
DTSTAMP:20260424T025019
CREATED:20220315T122836Z
LAST-MODIFIED:20220809T133512Z
UID:3103-1657929600-1658015999@theblackforestinnpa.com
SUMMARY:Chili Cook Off 2022
DESCRIPTION:Join us in July 2022 for our Chili Cook Off! More details coming soon. \nDownload our Chili Cook Off Form. \nFor more information\, please call 570-769-6070. \nEvent is sponsored by The Black Forest Inn.
URL:https://theblackforestinnpa.com/event/chili-cook-off-2022/
LOCATION:The Black Forest Inn\, 32600 North Route 44 Highway\, Lock Haven\, PA\, 17745
END:VEVENT
BEGIN:VEVENT
DTSTART;VALUE=DATE:20220319
DTEND;VALUE=DATE:20220320
DTSTAMP:20260424T025019
CREATED:20220315T123030Z
LAST-MODIFIED:20220809T133513Z
UID:3106-1647648000-1647734399@theblackforestinnpa.com
SUMMARY:St. Patrick's Party 2022
DESCRIPTION:Join us on March 19\, 2022 for our St. Patrick’s Party with Tony Harlan Entertainment! \nFor more information\, please call 570-769-6070. \nEvent is sponsored by The Black Forest Inn.
URL:https://theblackforestinnpa.com/event/st-patricks-party-2022/
LOCATION:The Black Forest Inn\, 32600 North Route 44 Highway\, Lock Haven\, PA\, 17745
END:VEVENT
END:VCALENDAR